BEGIN:VCALENDAR
VERSION:2.0
PRODID:-//Heliteam Lungau - ECPv6.15.11//NONSGML v1.0//EN
CALSCALE:GREGORIAN
METHOD:PUBLISH
X-ORIGINAL-URL:https://www.heliteam-lungau.at
X-WR-CALDESC:Veranstaltungen für Heliteam Lungau
REFRESH-INTERVAL;VALUE=DURATION:PT1H
X-Robots-Tag:noindex
X-PUBLISHED-TTL:PT1H
BEGIN:VTIMEZONE
TZID:Europe/Vienna
BEGIN:DAYLIGHT
TZOFFSETFROM:+0100
TZOFFSETTO:+0200
TZNAME:CEST
DTSTART:20170326T010000
END:DAYLIGHT
BEGIN:STANDARD
TZOFFSETFROM:+0200
TZOFFSETTO:+0100
TZNAME:CET
DTSTART:20171029T010000
END:STANDARD
BEGIN:DAYLIGHT
TZOFFSETFROM:+0100
TZOFFSETTO:+0200
TZNAME:CEST
DTSTART:20180325T010000
END:DAYLIGHT
BEGIN:STANDARD
TZOFFSETFROM:+0200
TZOFFSETTO:+0100
TZNAME:CET
DTSTART:20181028T010000
END:STANDARD
BEGIN:DAYLIGHT
TZOFFSETFROM:+0100
TZOFFSETTO:+0200
TZNAME:CEST
DTSTART:20190331T010000
END:DAYLIGHT
BEGIN:STANDARD
TZOFFSETFROM:+0200
TZOFFSETTO:+0100
TZNAME:CET
DTSTART:20191027T010000
END:STANDARD
BEGIN:DAYLIGHT
TZOFFSETFROM:+0100
TZOFFSETTO:+0200
TZNAME:CEST
DTSTART:20200329T010000
END:DAYLIGHT
BEGIN:STANDARD
TZOFFSETFROM:+0200
TZOFFSETTO:+0100
TZNAME:CET
DTSTART:20201025T010000
END:STANDARD
BEGIN:DAYLIGHT
TZOFFSETFROM:+0100
TZOFFSETTO:+0200
TZNAME:CEST
DTSTART:20210328T010000
END:DAYLIGHT
BEGIN:STANDARD
TZOFFSETFROM:+0200
TZOFFSETTO:+0100
TZNAME:CET
DTSTART:20211031T010000
END:STANDARD
BEGIN:DAYLIGHT
TZOFFSETFROM:+0100
TZOFFSETTO:+0200
TZNAME:CEST
DTSTART:20220327T010000
END:DAYLIGHT
BEGIN:STANDARD
TZOFFSETFROM:+0200
TZOFFSETTO:+0100
TZNAME:CET
DTSTART:20221030T010000
END:STANDARD
BEGIN:DAYLIGHT
TZOFFSETFROM:+0100
TZOFFSETTO:+0200
TZNAME:CEST
DTSTART:20230326T010000
END:DAYLIGHT
BEGIN:STANDARD
TZOFFSETFROM:+0200
TZOFFSETTO:+0100
TZNAME:CET
DTSTART:20231029T010000
END:STANDARD
BEGIN:DAYLIGHT
TZOFFSETFROM:+0100
TZOFFSETTO:+0200
TZNAME:CEST
DTSTART:20240331T010000
END:DAYLIGHT
BEGIN:STANDARD
TZOFFSETFROM:+0200
TZOFFSETTO:+0100
TZNAME:CET
DTSTART:20241027T010000
END:STANDARD
BEGIN:DAYLIGHT
TZOFFSETFROM:+0100
TZOFFSETTO:+0200
TZNAME:CEST
DTSTART:20250330T010000
END:DAYLIGHT
BEGIN:STANDARD
TZOFFSETFROM:+0200
TZOFFSETTO:+0100
TZNAME:CET
DTSTART:20251026T010000
END:STANDARD
END:VTIMEZONE
BEGIN:VEVENT
DTSTART;TZID=Europe/Vienna:20240406T090000
DTEND;TZID=Europe/Vienna:20240406T090000
DTSTAMP:20260420T175114
CREATED:20240404T223548Z
LAST-MODIFIED:20240404T231110Z
UID:1930-1712394000-1712394000@www.heliteam-lungau.at
SUMMARY:Anfliegen 2024
DESCRIPTION:
URL:https://www.heliteam-lungau.at/event/anfliegen-2024/
END:VEVENT
BEGIN:VEVENT
DTSTART;TZID=Europe/Vienna:20240405T190000
DTEND;TZID=Europe/Vienna:20240405T233000
DTSTAMP:20260420T175114
CREATED:20240404T231156Z
LAST-MODIFIED:20240404T231156Z
UID:1939-1712343600-1712359800@www.heliteam-lungau.at
SUMMARY:Jahreshauptversammlung
DESCRIPTION:
URL:https://www.heliteam-lungau.at/event/jahreshauptversammlung-2/
END:VEVENT
BEGIN:VEVENT
DTSTART;TZID=Europe/Vienna:20211105T190000
DTEND;TZID=Europe/Vienna:20211105T220000
DTSTAMP:20260420T175114
CREATED:20201002T180000Z
LAST-MODIFIED:20211104T135417Z
UID:673-1636138800-1636149600@www.heliteam-lungau.at
SUMMARY:Clubsitzung
DESCRIPTION:Bei unserer monatlichen Clubsitzung besprechen wir in gemütlicher Runde aktuelle Themen rund ums Fliegen und mehr.\nEs wäre schön wenn auch du dabei bist. \nDie Clubsitzung ist auch der perfekte Start wenn sich deine Freunde für’s Modellhubschrauber fliegen interessieren und sich darüber informieren möchten oder sogar ein Mitglied bei uns werden möchten. \nDein Heliteam Lungau!
URL:https://www.heliteam-lungau.at/event/clubsitzung/
LOCATION:Flugplatz Heliteam Lungau\, Flugplatz Heliteam\, Pichl / Mariapfarr
ORGANIZER;CN="Heliteam Lungau":MAILTO:office@heliteam-lungau.at
END:VEVENT
BEGIN:VEVENT
DTSTART;TZID=Europe/Vienna:20200403T200000
DTEND;TZID=Europe/Vienna:20200403T230000
DTSTAMP:20260420T175114
CREATED:20180315T073715Z
LAST-MODIFIED:20200312T074749Z
UID:754-1585944000-1585954800@www.heliteam-lungau.at
SUMMARY:Jahreshauptversammlung
DESCRIPTION:
URL:https://www.heliteam-lungau.at/event/jahreshauptversammlung/
LOCATION:Gasthof Karlwirt\, Lintsching 31\, St.Andrä\, 5572
ORGANIZER;CN="Heliteam Lungau":MAILTO:office@heliteam-lungau.at
END:VEVENT
BEGIN:VEVENT
DTSTART;TZID=Europe/Vienna:20191206T190000
DTEND;TZID=Europe/Vienna:20191206T230000
DTSTAMP:20260420T175114
CREATED:20171126T163241Z
LAST-MODIFIED:20191112T073759Z
UID:748-1575658800-1575673200@www.heliteam-lungau.at
SUMMARY:Weihnachtsfeier
DESCRIPTION:Liebe Mitglieder! \nKaum zu glauben\, aber wahr\, viel zu schnell ging dieses Jahr!\nEs ist wieder soweit\, eine erfolgreiche Flugsaison neigt sich dem Ende zu\, und auch dieses Jahr möchten wir gemeinsam mit Dir feiern. \nWir laden Dich\, mit Begleitung recht herzlich zu unserer Weihnachtsfeier ein. Freue dich auf einen netten Abend in gemütlicher Runde. Für das leibliche Wohl wird bestens gesorgt sein. \nEs wäre schön\, wenn auch du dabei bist.
URL:https://www.heliteam-lungau.at/event/weihnachtsfeier/
LOCATION:Gasthof Karlwirt\, Lintsching 31\, St.Andrä\, 5572
ORGANIZER;CN="Heliteam Lungau":MAILTO:office@heliteam-lungau.at
END:VEVENT
BEGIN:VEVENT
DTSTART;TZID=Europe/Vienna:20190824T100000
DTEND;TZID=Europe/Vienna:20190824T230000
DTSTAMP:20260420T175114
CREATED:20190817T212010Z
LAST-MODIFIED:20190817T212010Z
UID:1214-1566640800-1566687600@www.heliteam-lungau.at
SUMMARY:10 Jahre Heliteam Flugtag
DESCRIPTION:
URL:https://www.heliteam-lungau.at/event/10-jahre-heliteam-flugtag/
ATTACH;FMTTYPE=image/jpeg:https://www.heliteam-lungau.at/wp-content/uploads/2019/08/Heliteam-Plakat.jpg
END:VEVENT
BEGIN:VEVENT
DTSTART;TZID=Europe/Vienna:20190818T100000
DTEND;TZID=Europe/Vienna:20190818T200000
DTSTAMP:20260420T175114
CREATED:20190811T213921Z
LAST-MODIFIED:20190811T213921Z
UID:1209-1566122400-1566158400@www.heliteam-lungau.at
SUMMARY:50 Jahre MFC Lungau
DESCRIPTION:
URL:https://www.heliteam-lungau.at/event/50-jahre-mfc-lungau/
END:VEVENT
BEGIN:VEVENT
DTSTART;TZID=Europe/Vienna:20190504T100000
DTEND;TZID=Europe/Vienna:20190504T220000
DTSTAMP:20260420T175114
CREATED:20190426T171803Z
LAST-MODIFIED:20190426T171803Z
UID:971-1556964000-1557007200@www.heliteam-lungau.at
SUMMARY:Anfliegen MFC Stadl
DESCRIPTION:
URL:https://www.heliteam-lungau.at/event/anfliegen-mfc-stadl/
LOCATION:Flugplatz MFC Stadl\, Stadl 127\, Stadl an der Mur\, Steiermark\, 8862\, Österreich
END:VEVENT
BEGIN:VEVENT
DTSTART;TZID=Europe/Vienna:20180421T090000
DTEND;TZID=Europe/Vienna:20180421T233000
DTSTAMP:20260420T175114
CREATED:20180417T094258Z
LAST-MODIFIED:20180417T094258Z
UID:785-1524301200-1524353400@www.heliteam-lungau.at
SUMMARY:Anfliegen 2018
DESCRIPTION:Hallo liebe Mitglieder und Freunde der Fliegerei! \nAm kommenden Samstag (21.4. 2018) findet unser alljährliches Anfliegen statt. Ihr seid alle recht herzlich eingeladen!\nFluggeräte nicht vergessen! Für das leibliche Wohl ist bestens gesorgt! \nEurer Heliteam Lungau
URL:https://www.heliteam-lungau.at/event/anfliegen-2018/
ATTACH;FMTTYPE=image/jpeg:https://www.heliteam-lungau.at/wp-content/uploads/2018/04/GauiX7.jpg
ORGANIZER;CN="Heliteam Lungau":MAILTO:office@heliteam-lungau.at
END:VEVENT
END:VCALENDAR